BEGIN:VCALENDAR
VERSION:2.0
PRODID:-//Tukios.com/
BEGIN:VEVENT
UID:066f2f77-d984-4a99-b0bd-335ea451de51@www.harrisfunerals.com
DTSTAMP:20260421T191203Z
DTSTART:20260424T170000Z
DTEND:20260424T175000Z
SUMMARY:Visitation
DESCRIPTION:
URL:https://www.harrisfunerals.com/obituaries/faye-mcinnes
LOCATION:Harvest Time Assembly 904 2nd Street  Kings Mountain NC 28086
GEO:35.2553245;-81.332621
END:VEVENT
END:VCALENDAR