BEGIN:VCALENDAR
VERSION:2.0
PRODID:-//Tukios.com/
BEGIN:VEVENT
UID:fa3f150b-d875-41d5-96bb-8173de102727@www.harrisfunerals.com
DTSTAMP:20260421T190850Z
DTSTART:20260424T180000Z
DTEND:20260424T190000Z
SUMMARY:Funeral Service
DESCRIPTION:
URL:https://www.harrisfunerals.com/obituaries/faye-mcinnes
LOCATION:Harvest Time Assembly 904 2nd Street  Kings Mountain NC 28086
GEO:35.2553245;-81.332621
END:VEVENT
END:VCALENDAR